BEGIN:VCALENDAR
VERSION:2.0
PRODID:-//The Episcopal Church of the Blessed Sacrament - ECPv6.15.20//NONSGML v1.0//EN
CALSCALE:GREGORIAN
METHOD:PUBLISH
X-WR-CALNAME:The Episcopal Church of the Blessed Sacrament
X-ORIGINAL-URL:https://blessedsacramentplacentia.org
X-WR-CALDESC:Events for The Episcopal Church of the Blessed Sacrament
REFRESH-INTERVAL;VALUE=DURATION:PT1H
X-Robots-Tag:noindex
X-PUBLISHED-TTL:PT1H
BEGIN:VTIMEZONE
TZID:America/Los_Angeles
BEGIN:DAYLIGHT
TZOFFSETFROM:-0800
TZOFFSETTO:-0700
TZNAME:PDT
DTSTART:20220313T100000
END:DAYLIGHT
BEGIN:STANDARD
TZOFFSETFROM:-0700
TZOFFSETTO:-0800
TZNAME:PST
DTSTART:20221106T090000
END:STANDARD
BEGIN:DAYLIGHT
TZOFFSETFROM:-0800
TZOFFSETTO:-0700
TZNAME:PDT
DTSTART:20230312T100000
END:DAYLIGHT
BEGIN:STANDARD
TZOFFSETFROM:-0700
TZOFFSETTO:-0800
TZNAME:PST
DTSTART:20231105T090000
END:STANDARD
BEGIN:DAYLIGHT
TZOFFSETFROM:-0800
TZOFFSETTO:-0700
TZNAME:PDT
DTSTART:20240310T100000
END:DAYLIGHT
BEGIN:STANDARD
TZOFFSETFROM:-0700
TZOFFSETTO:-0800
TZNAME:PST
DTSTART:20241103T090000
END:STANDARD
BEGIN:DAYLIGHT
TZOFFSETFROM:-0800
TZOFFSETTO:-0700
TZNAME:PDT
DTSTART:20250309T100000
END:DAYLIGHT
BEGIN:STANDARD
TZOFFSETFROM:-0700
TZOFFSETTO:-0800
TZNAME:PST
DTSTART:20251102T090000
END:STANDARD
END:VTIMEZONE
BEGIN:VEVENT
DTSTART;TZID=America/Los_Angeles:20240225T103000
DTEND;TZID=America/Los_Angeles:20240225T120000
DTSTAMP:20260423T081520
CREATED:20231117T022224Z
LAST-MODIFIED:20231117T022238Z
UID:10000016-1708857000-1708862400@blessedsacramentplacentia.org
SUMMARY:Sunday AA
DESCRIPTION:Meets in the Parish Hall every Sunday
URL:https://blessedsacramentplacentia.org/event/sunday-aa-2/2024-02-25/
LOCATION:Blessed Sacrament Parish Hall\, 1314 N. Angelina Drive\, Placentia\, CA\, 92870\, United States
ATTACH;FMTTYPE=image/jpeg:https://blessedsacramentplacentia.org/wp-content/uploads/2023/11/the-climate-reality-project-Hb6uWq0i4MI-unsplash-scaled-e1700157826744.jpg
END:VEVENT
BEGIN:VEVENT
DTSTART;TZID=America/Los_Angeles:20240219T020000
DTEND;TZID=America/Los_Angeles:20240219T033000
DTSTAMP:20260423T081520
CREATED:20231117T024109Z
LAST-MODIFIED:20240314T175741Z
UID:10002171-1708308000-1708313400@blessedsacramentplacentia.org
SUMMARY:AA Monday Evening 7:00 pm
DESCRIPTION:This meeting takes place in the Parish Hall
URL:https://blessedsacramentplacentia.org/event/aa-monday-evening-730/2024-02-19/
LOCATION:Blessed Sacrament Parish Hall\, 1314 N. Angelina Drive\, Placentia\, CA\, 92870\, United States
ATTACH;FMTTYPE=image/jpeg:https://blessedsacramentplacentia.org/wp-content/uploads/2023/11/the-climate-reality-project-Hb6uWq0i4MI-unsplash-scaled-e1700157826744.jpg
END:VEVENT
BEGIN:VEVENT
DTSTART;TZID=America/Los_Angeles:20240218T103000
DTEND;TZID=America/Los_Angeles:20240218T120000
DTSTAMP:20260423T081520
CREATED:20231117T022224Z
LAST-MODIFIED:20231117T022238Z
UID:10000015-1708252200-1708257600@blessedsacramentplacentia.org
SUMMARY:Sunday AA
DESCRIPTION:Meets in the Parish Hall every Sunday
URL:https://blessedsacramentplacentia.org/event/sunday-aa-2/2024-02-18/
LOCATION:Blessed Sacrament Parish Hall\, 1314 N. Angelina Drive\, Placentia\, CA\, 92870\, United States
ATTACH;FMTTYPE=image/jpeg:https://blessedsacramentplacentia.org/wp-content/uploads/2023/11/the-climate-reality-project-Hb6uWq0i4MI-unsplash-scaled-e1700157826744.jpg
END:VEVENT
BEGIN:VEVENT
DTSTART;TZID=America/Los_Angeles:20240212T020000
DTEND;TZID=America/Los_Angeles:20240212T033000
DTSTAMP:20260423T081520
CREATED:20231117T024109Z
LAST-MODIFIED:20240314T175741Z
UID:10002170-1707703200-1707708600@blessedsacramentplacentia.org
SUMMARY:AA Monday Evening 7:00 pm
DESCRIPTION:This meeting takes place in the Parish Hall
URL:https://blessedsacramentplacentia.org/event/aa-monday-evening-730/2024-02-12/
LOCATION:Blessed Sacrament Parish Hall\, 1314 N. Angelina Drive\, Placentia\, CA\, 92870\, United States
ATTACH;FMTTYPE=image/jpeg:https://blessedsacramentplacentia.org/wp-content/uploads/2023/11/the-climate-reality-project-Hb6uWq0i4MI-unsplash-scaled-e1700157826744.jpg
END:VEVENT
BEGIN:VEVENT
DTSTART;TZID=America/Los_Angeles:20240211T103000
DTEND;TZID=America/Los_Angeles:20240211T120000
DTSTAMP:20260423T081520
CREATED:20231117T022224Z
LAST-MODIFIED:20231117T022238Z
UID:10000014-1707647400-1707652800@blessedsacramentplacentia.org
SUMMARY:Sunday AA
DESCRIPTION:Meets in the Parish Hall every Sunday
URL:https://blessedsacramentplacentia.org/event/sunday-aa-2/2024-02-11/
LOCATION:Blessed Sacrament Parish Hall\, 1314 N. Angelina Drive\, Placentia\, CA\, 92870\, United States
ATTACH;FMTTYPE=image/jpeg:https://blessedsacramentplacentia.org/wp-content/uploads/2023/11/the-climate-reality-project-Hb6uWq0i4MI-unsplash-scaled-e1700157826744.jpg
END:VEVENT
BEGIN:VEVENT
DTSTART;TZID=America/Los_Angeles:20240205T020000
DTEND;TZID=America/Los_Angeles:20240205T033000
DTSTAMP:20260423T081520
CREATED:20231117T024109Z
LAST-MODIFIED:20240314T175741Z
UID:10002169-1707098400-1707103800@blessedsacramentplacentia.org
SUMMARY:AA Monday Evening 7:00 pm
DESCRIPTION:This meeting takes place in the Parish Hall
URL:https://blessedsacramentplacentia.org/event/aa-monday-evening-730/2024-02-05/
LOCATION:Blessed Sacrament Parish Hall\, 1314 N. Angelina Drive\, Placentia\, CA\, 92870\, United States
ATTACH;FMTTYPE=image/jpeg:https://blessedsacramentplacentia.org/wp-content/uploads/2023/11/the-climate-reality-project-Hb6uWq0i4MI-unsplash-scaled-e1700157826744.jpg
END:VEVENT
BEGIN:VEVENT
DTSTART;TZID=America/Los_Angeles:20240204T103000
DTEND;TZID=America/Los_Angeles:20240204T120000
DTSTAMP:20260423T081520
CREATED:20231117T022224Z
LAST-MODIFIED:20231117T022238Z
UID:10000013-1707042600-1707048000@blessedsacramentplacentia.org
SUMMARY:Sunday AA
DESCRIPTION:Meets in the Parish Hall every Sunday
URL:https://blessedsacramentplacentia.org/event/sunday-aa-2/2024-02-04/
LOCATION:Blessed Sacrament Parish Hall\, 1314 N. Angelina Drive\, Placentia\, CA\, 92870\, United States
ATTACH;FMTTYPE=image/jpeg:https://blessedsacramentplacentia.org/wp-content/uploads/2023/11/the-climate-reality-project-Hb6uWq0i4MI-unsplash-scaled-e1700157826744.jpg
END:VEVENT
BEGIN:VEVENT
DTSTART;TZID=America/Los_Angeles:20240129T020000
DTEND;TZID=America/Los_Angeles:20240129T033000
DTSTAMP:20260423T081520
CREATED:20231117T024109Z
LAST-MODIFIED:20240314T175741Z
UID:10002168-1706493600-1706499000@blessedsacramentplacentia.org
SUMMARY:AA Monday Evening 7:00 pm
DESCRIPTION:This meeting takes place in the Parish Hall
URL:https://blessedsacramentplacentia.org/event/aa-monday-evening-730/2024-01-29/
LOCATION:Blessed Sacrament Parish Hall\, 1314 N. Angelina Drive\, Placentia\, CA\, 92870\, United States
ATTACH;FMTTYPE=image/jpeg:https://blessedsacramentplacentia.org/wp-content/uploads/2023/11/the-climate-reality-project-Hb6uWq0i4MI-unsplash-scaled-e1700157826744.jpg
END:VEVENT
BEGIN:VEVENT
DTSTART;TZID=America/Los_Angeles:20240128T103000
DTEND;TZID=America/Los_Angeles:20240128T120000
DTSTAMP:20260423T081520
CREATED:20231117T022224Z
LAST-MODIFIED:20231117T022238Z
UID:10000012-1706437800-1706443200@blessedsacramentplacentia.org
SUMMARY:Sunday AA
DESCRIPTION:Meets in the Parish Hall every Sunday
URL:https://blessedsacramentplacentia.org/event/sunday-aa-2/2024-01-28/
LOCATION:Blessed Sacrament Parish Hall\, 1314 N. Angelina Drive\, Placentia\, CA\, 92870\, United States
ATTACH;FMTTYPE=image/jpeg:https://blessedsacramentplacentia.org/wp-content/uploads/2023/11/the-climate-reality-project-Hb6uWq0i4MI-unsplash-scaled-e1700157826744.jpg
END:VEVENT
BEGIN:VEVENT
DTSTART;TZID=America/Los_Angeles:20240122T020000
DTEND;TZID=America/Los_Angeles:20240122T033000
DTSTAMP:20260423T081520
CREATED:20231117T024109Z
LAST-MODIFIED:20240314T175741Z
UID:10002167-1705888800-1705894200@blessedsacramentplacentia.org
SUMMARY:AA Monday Evening 7:00 pm
DESCRIPTION:This meeting takes place in the Parish Hall
URL:https://blessedsacramentplacentia.org/event/aa-monday-evening-730/2024-01-22/
LOCATION:Blessed Sacrament Parish Hall\, 1314 N. Angelina Drive\, Placentia\, CA\, 92870\, United States
ATTACH;FMTTYPE=image/jpeg:https://blessedsacramentplacentia.org/wp-content/uploads/2023/11/the-climate-reality-project-Hb6uWq0i4MI-unsplash-scaled-e1700157826744.jpg
END:VEVENT
BEGIN:VEVENT
DTSTART;TZID=America/Los_Angeles:20240121T103000
DTEND;TZID=America/Los_Angeles:20240121T120000
DTSTAMP:20260423T081520
CREATED:20231117T022224Z
LAST-MODIFIED:20231117T022238Z
UID:10000011-1705833000-1705838400@blessedsacramentplacentia.org
SUMMARY:Sunday AA
DESCRIPTION:Meets in the Parish Hall every Sunday
URL:https://blessedsacramentplacentia.org/event/sunday-aa-2/2024-01-21/
LOCATION:Blessed Sacrament Parish Hall\, 1314 N. Angelina Drive\, Placentia\, CA\, 92870\, United States
ATTACH;FMTTYPE=image/jpeg:https://blessedsacramentplacentia.org/wp-content/uploads/2023/11/the-climate-reality-project-Hb6uWq0i4MI-unsplash-scaled-e1700157826744.jpg
END:VEVENT
BEGIN:VEVENT
DTSTART;TZID=America/Los_Angeles:20240115T020000
DTEND;TZID=America/Los_Angeles:20240115T033000
DTSTAMP:20260423T081520
CREATED:20231117T024109Z
LAST-MODIFIED:20240314T175741Z
UID:10002166-1705284000-1705289400@blessedsacramentplacentia.org
SUMMARY:AA Monday Evening 7:00 pm
DESCRIPTION:This meeting takes place in the Parish Hall
URL:https://blessedsacramentplacentia.org/event/aa-monday-evening-730/2024-01-15/
LOCATION:Blessed Sacrament Parish Hall\, 1314 N. Angelina Drive\, Placentia\, CA\, 92870\, United States
ATTACH;FMTTYPE=image/jpeg:https://blessedsacramentplacentia.org/wp-content/uploads/2023/11/the-climate-reality-project-Hb6uWq0i4MI-unsplash-scaled-e1700157826744.jpg
END:VEVENT
BEGIN:VEVENT
DTSTART;TZID=America/Los_Angeles:20240114T103000
DTEND;TZID=America/Los_Angeles:20240114T120000
DTSTAMP:20260423T081520
CREATED:20231117T022224Z
LAST-MODIFIED:20231117T022238Z
UID:10000010-1705228200-1705233600@blessedsacramentplacentia.org
SUMMARY:Sunday AA
DESCRIPTION:Meets in the Parish Hall every Sunday
URL:https://blessedsacramentplacentia.org/event/sunday-aa-2/2024-01-14/
LOCATION:Blessed Sacrament Parish Hall\, 1314 N. Angelina Drive\, Placentia\, CA\, 92870\, United States
ATTACH;FMTTYPE=image/jpeg:https://blessedsacramentplacentia.org/wp-content/uploads/2023/11/the-climate-reality-project-Hb6uWq0i4MI-unsplash-scaled-e1700157826744.jpg
END:VEVENT
BEGIN:VEVENT
DTSTART;TZID=America/Los_Angeles:20240108T020000
DTEND;TZID=America/Los_Angeles:20240108T033000
DTSTAMP:20260423T081520
CREATED:20231117T024109Z
LAST-MODIFIED:20240314T175741Z
UID:10002165-1704679200-1704684600@blessedsacramentplacentia.org
SUMMARY:AA Monday Evening 7:00 pm
DESCRIPTION:This meeting takes place in the Parish Hall
URL:https://blessedsacramentplacentia.org/event/aa-monday-evening-730/2024-01-08/
LOCATION:Blessed Sacrament Parish Hall\, 1314 N. Angelina Drive\, Placentia\, CA\, 92870\, United States
ATTACH;FMTTYPE=image/jpeg:https://blessedsacramentplacentia.org/wp-content/uploads/2023/11/the-climate-reality-project-Hb6uWq0i4MI-unsplash-scaled-e1700157826744.jpg
END:VEVENT
BEGIN:VEVENT
DTSTART;TZID=America/Los_Angeles:20240107T103000
DTEND;TZID=America/Los_Angeles:20240107T120000
DTSTAMP:20260423T081520
CREATED:20231117T022224Z
LAST-MODIFIED:20231117T022238Z
UID:10000009-1704623400-1704628800@blessedsacramentplacentia.org
SUMMARY:Sunday AA
DESCRIPTION:Meets in the Parish Hall every Sunday
URL:https://blessedsacramentplacentia.org/event/sunday-aa-2/2024-01-07/
LOCATION:Blessed Sacrament Parish Hall\, 1314 N. Angelina Drive\, Placentia\, CA\, 92870\, United States
ATTACH;FMTTYPE=image/jpeg:https://blessedsacramentplacentia.org/wp-content/uploads/2023/11/the-climate-reality-project-Hb6uWq0i4MI-unsplash-scaled-e1700157826744.jpg
END:VEVENT
BEGIN:VEVENT
DTSTART;TZID=America/Los_Angeles:20240101T020000
DTEND;TZID=America/Los_Angeles:20240101T033000
DTSTAMP:20260423T081520
CREATED:20231117T024109Z
LAST-MODIFIED:20240314T175741Z
UID:10002164-1704074400-1704079800@blessedsacramentplacentia.org
SUMMARY:AA Monday Evening 7:00 pm
DESCRIPTION:This meeting takes place in the Parish Hall
URL:https://blessedsacramentplacentia.org/event/aa-monday-evening-730/2024-01-01/
LOCATION:Blessed Sacrament Parish Hall\, 1314 N. Angelina Drive\, Placentia\, CA\, 92870\, United States
ATTACH;FMTTYPE=image/jpeg:https://blessedsacramentplacentia.org/wp-content/uploads/2023/11/the-climate-reality-project-Hb6uWq0i4MI-unsplash-scaled-e1700157826744.jpg
END:VEVENT
BEGIN:VEVENT
DTSTART;TZID=America/Los_Angeles:20231231T103000
DTEND;TZID=America/Los_Angeles:20231231T120000
DTSTAMP:20260423T081520
CREATED:20231117T022224Z
LAST-MODIFIED:20231117T022238Z
UID:10000008-1704018600-1704024000@blessedsacramentplacentia.org
SUMMARY:Sunday AA
DESCRIPTION:Meets in the Parish Hall every Sunday
URL:https://blessedsacramentplacentia.org/event/sunday-aa-2/2023-12-31/
LOCATION:Blessed Sacrament Parish Hall\, 1314 N. Angelina Drive\, Placentia\, CA\, 92870\, United States
ATTACH;FMTTYPE=image/jpeg:https://blessedsacramentplacentia.org/wp-content/uploads/2023/11/the-climate-reality-project-Hb6uWq0i4MI-unsplash-scaled-e1700157826744.jpg
END:VEVENT
BEGIN:VEVENT
DTSTART;TZID=America/Los_Angeles:20231225T020000
DTEND;TZID=America/Los_Angeles:20231225T033000
DTSTAMP:20260423T081520
CREATED:20231117T024109Z
LAST-MODIFIED:20240314T175741Z
UID:10002163-1703469600-1703475000@blessedsacramentplacentia.org
SUMMARY:AA Monday Evening 7:00 pm
DESCRIPTION:This meeting takes place in the Parish Hall
URL:https://blessedsacramentplacentia.org/event/aa-monday-evening-730/2023-12-25/
LOCATION:Blessed Sacrament Parish Hall\, 1314 N. Angelina Drive\, Placentia\, CA\, 92870\, United States
ATTACH;FMTTYPE=image/jpeg:https://blessedsacramentplacentia.org/wp-content/uploads/2023/11/the-climate-reality-project-Hb6uWq0i4MI-unsplash-scaled-e1700157826744.jpg
END:VEVENT
BEGIN:VEVENT
DTSTART;TZID=America/Los_Angeles:20231224T103000
DTEND;TZID=America/Los_Angeles:20231224T120000
DTSTAMP:20260423T081520
CREATED:20231117T022224Z
LAST-MODIFIED:20231117T022238Z
UID:10000007-1703413800-1703419200@blessedsacramentplacentia.org
SUMMARY:Sunday AA
DESCRIPTION:Meets in the Parish Hall every Sunday
URL:https://blessedsacramentplacentia.org/event/sunday-aa-2/2023-12-24/
LOCATION:Blessed Sacrament Parish Hall\, 1314 N. Angelina Drive\, Placentia\, CA\, 92870\, United States
ATTACH;FMTTYPE=image/jpeg:https://blessedsacramentplacentia.org/wp-content/uploads/2023/11/the-climate-reality-project-Hb6uWq0i4MI-unsplash-scaled-e1700157826744.jpg
END:VEVENT
BEGIN:VEVENT
DTSTART;TZID=America/Los_Angeles:20231218T020000
DTEND;TZID=America/Los_Angeles:20231218T033000
DTSTAMP:20260423T081520
CREATED:20231117T024109Z
LAST-MODIFIED:20240314T175741Z
UID:10002162-1702864800-1702870200@blessedsacramentplacentia.org
SUMMARY:AA Monday Evening 7:00 pm
DESCRIPTION:This meeting takes place in the Parish Hall
URL:https://blessedsacramentplacentia.org/event/aa-monday-evening-730/2023-12-18/
LOCATION:Blessed Sacrament Parish Hall\, 1314 N. Angelina Drive\, Placentia\, CA\, 92870\, United States
ATTACH;FMTTYPE=image/jpeg:https://blessedsacramentplacentia.org/wp-content/uploads/2023/11/the-climate-reality-project-Hb6uWq0i4MI-unsplash-scaled-e1700157826744.jpg
END:VEVENT
BEGIN:VEVENT
DTSTART;TZID=America/Los_Angeles:20231217T103000
DTEND;TZID=America/Los_Angeles:20231217T120000
DTSTAMP:20260423T081520
CREATED:20231117T022224Z
LAST-MODIFIED:20231117T022238Z
UID:10000006-1702809000-1702814400@blessedsacramentplacentia.org
SUMMARY:Sunday AA
DESCRIPTION:Meets in the Parish Hall every Sunday
URL:https://blessedsacramentplacentia.org/event/sunday-aa-2/2023-12-17/
LOCATION:Blessed Sacrament Parish Hall\, 1314 N. Angelina Drive\, Placentia\, CA\, 92870\, United States
ATTACH;FMTTYPE=image/jpeg:https://blessedsacramentplacentia.org/wp-content/uploads/2023/11/the-climate-reality-project-Hb6uWq0i4MI-unsplash-scaled-e1700157826744.jpg
END:VEVENT
BEGIN:VEVENT
DTSTART;TZID=America/Los_Angeles:20231211T020000
DTEND;TZID=America/Los_Angeles:20231211T033000
DTSTAMP:20260423T081520
CREATED:20231117T024109Z
LAST-MODIFIED:20240314T175741Z
UID:10002161-1702260000-1702265400@blessedsacramentplacentia.org
SUMMARY:AA Monday Evening 7:00 pm
DESCRIPTION:This meeting takes place in the Parish Hall
URL:https://blessedsacramentplacentia.org/event/aa-monday-evening-730/2023-12-11/
LOCATION:Blessed Sacrament Parish Hall\, 1314 N. Angelina Drive\, Placentia\, CA\, 92870\, United States
ATTACH;FMTTYPE=image/jpeg:https://blessedsacramentplacentia.org/wp-content/uploads/2023/11/the-climate-reality-project-Hb6uWq0i4MI-unsplash-scaled-e1700157826744.jpg
END:VEVENT
BEGIN:VEVENT
DTSTART;TZID=America/Los_Angeles:20231210T103000
DTEND;TZID=America/Los_Angeles:20231210T120000
DTSTAMP:20260423T081520
CREATED:20231117T022623Z
LAST-MODIFIED:20231117T022624Z
UID:10000005-1702204200-1702209600@blessedsacramentplacentia.org
SUMMARY:Sunday AA
DESCRIPTION:Meets in classroom 3 this evening only.
URL:https://blessedsacramentplacentia.org/event/sunday-aa-2-2/
LOCATION:Blessed Sacrament Parish Hall\, 1314 N. Angelina Drive\, Placentia\, CA\, 92870\, United States
ATTACH;FMTTYPE=image/jpeg:https://blessedsacramentplacentia.org/wp-content/uploads/2023/11/the-climate-reality-project-Hb6uWq0i4MI-unsplash-scaled-e1700157826744.jpg
END:VEVENT
BEGIN:VEVENT
DTSTART;TZID=America/Los_Angeles:20231204T020000
DTEND;TZID=America/Los_Angeles:20231204T033000
DTSTAMP:20260423T081520
CREATED:20231117T024109Z
LAST-MODIFIED:20240314T175741Z
UID:10002160-1701655200-1701660600@blessedsacramentplacentia.org
SUMMARY:AA Monday Evening 7:00 pm
DESCRIPTION:This meeting takes place in the Parish Hall
URL:https://blessedsacramentplacentia.org/event/aa-monday-evening-730/2023-12-04/
LOCATION:Blessed Sacrament Parish Hall\, 1314 N. Angelina Drive\, Placentia\, CA\, 92870\, United States
ATTACH;FMTTYPE=image/jpeg:https://blessedsacramentplacentia.org/wp-content/uploads/2023/11/the-climate-reality-project-Hb6uWq0i4MI-unsplash-scaled-e1700157826744.jpg
END:VEVENT
BEGIN:VEVENT
DTSTART;TZID=America/Los_Angeles:20231203T103000
DTEND;TZID=America/Los_Angeles:20231203T120000
DTSTAMP:20260423T081520
CREATED:20231117T022224Z
LAST-MODIFIED:20231117T022238Z
UID:10000004-1701599400-1701604800@blessedsacramentplacentia.org
SUMMARY:Sunday AA
DESCRIPTION:Meets in the Parish Hall every Sunday
URL:https://blessedsacramentplacentia.org/event/sunday-aa-2/2023-12-03/
LOCATION:Blessed Sacrament Parish Hall\, 1314 N. Angelina Drive\, Placentia\, CA\, 92870\, United States
ATTACH;FMTTYPE=image/jpeg:https://blessedsacramentplacentia.org/wp-content/uploads/2023/11/the-climate-reality-project-Hb6uWq0i4MI-unsplash-scaled-e1700157826744.jpg
END:VEVENT
BEGIN:VEVENT
DTSTART;TZID=America/Los_Angeles:20231127T020000
DTEND;TZID=America/Los_Angeles:20231127T033000
DTSTAMP:20260423T081520
CREATED:20231117T024109Z
LAST-MODIFIED:20240314T175741Z
UID:10002159-1701050400-1701055800@blessedsacramentplacentia.org
SUMMARY:AA Monday Evening 7:00 pm
DESCRIPTION:This meeting takes place in the Parish Hall
URL:https://blessedsacramentplacentia.org/event/aa-monday-evening-730/2023-11-27/
LOCATION:Blessed Sacrament Parish Hall\, 1314 N. Angelina Drive\, Placentia\, CA\, 92870\, United States
ATTACH;FMTTYPE=image/jpeg:https://blessedsacramentplacentia.org/wp-content/uploads/2023/11/the-climate-reality-project-Hb6uWq0i4MI-unsplash-scaled-e1700157826744.jpg
END:VEVENT
BEGIN:VEVENT
DTSTART;TZID=America/Los_Angeles:20231126T103000
DTEND;TZID=America/Los_Angeles:20231126T120000
DTSTAMP:20260423T081520
CREATED:20231117T022224Z
LAST-MODIFIED:20231117T022238Z
UID:10000003-1700994600-1701000000@blessedsacramentplacentia.org
SUMMARY:Sunday AA
DESCRIPTION:Meets in the Parish Hall every Sunday
URL:https://blessedsacramentplacentia.org/event/sunday-aa-2/2023-11-26/
LOCATION:Blessed Sacrament Parish Hall\, 1314 N. Angelina Drive\, Placentia\, CA\, 92870\, United States
ATTACH;FMTTYPE=image/jpeg:https://blessedsacramentplacentia.org/wp-content/uploads/2023/11/the-climate-reality-project-Hb6uWq0i4MI-unsplash-scaled-e1700157826744.jpg
END:VEVENT
BEGIN:VEVENT
DTSTART;TZID=America/Los_Angeles:20231121T020000
DTEND;TZID=America/Los_Angeles:20231121T033000
DTSTAMP:20260423T081520
CREATED:20231117T024109Z
LAST-MODIFIED:20240314T175741Z
UID:10002158-1700532000-1700537400@blessedsacramentplacentia.org
SUMMARY:AA Monday Evening 7:00 pm
DESCRIPTION:This meeting takes place in the Parish Hall
URL:https://blessedsacramentplacentia.org/event/aa-monday-evening-730/2023-11-21/
LOCATION:Blessed Sacrament Parish Hall\, 1314 N. Angelina Drive\, Placentia\, CA\, 92870\, United States
ATTACH;FMTTYPE=image/jpeg:https://blessedsacramentplacentia.org/wp-content/uploads/2023/11/the-climate-reality-project-Hb6uWq0i4MI-unsplash-scaled-e1700157826744.jpg
END:VEVENT
BEGIN:VEVENT
DTSTART;TZID=America/Los_Angeles:20231119T103000
DTEND;TZID=America/Los_Angeles:20231119T120000
DTSTAMP:20260423T081520
CREATED:20231117T022224Z
LAST-MODIFIED:20231117T022238Z
UID:10000002-1700389800-1700395200@blessedsacramentplacentia.org
SUMMARY:Sunday AA
DESCRIPTION:Meets in the Parish Hall every Sunday
URL:https://blessedsacramentplacentia.org/event/sunday-aa-2/2023-11-19/
LOCATION:Blessed Sacrament Parish Hall\, 1314 N. Angelina Drive\, Placentia\, CA\, 92870\, United States
ATTACH;FMTTYPE=image/jpeg:https://blessedsacramentplacentia.org/wp-content/uploads/2023/11/the-climate-reality-project-Hb6uWq0i4MI-unsplash-scaled-e1700157826744.jpg
END:VEVENT
END:VCALENDAR