BEGIN:VCALENDAR
VERSION:2.0
PRODID:-//The Episcopal Church of the Blessed Sacrament - ECPv6.15.20//NONSGML v1.0//EN
CALSCALE:GREGORIAN
METHOD:PUBLISH
X-WR-CALNAME:The Episcopal Church of the Blessed Sacrament
X-ORIGINAL-URL:https://blessedsacramentplacentia.org
X-WR-CALDESC:Events for The Episcopal Church of the Blessed Sacrament
REFRESH-INTERVAL;VALUE=DURATION:PT1H
X-Robots-Tag:noindex
X-PUBLISHED-TTL:PT1H
BEGIN:VTIMEZONE
TZID:America/Los_Angeles
BEGIN:DAYLIGHT
TZOFFSETFROM:-0800
TZOFFSETTO:-0700
TZNAME:PDT
DTSTART:20230312T100000
END:DAYLIGHT
BEGIN:STANDARD
TZOFFSETFROM:-0700
TZOFFSETTO:-0800
TZNAME:PST
DTSTART:20231105T090000
END:STANDARD
BEGIN:DAYLIGHT
TZOFFSETFROM:-0800
TZOFFSETTO:-0700
TZNAME:PDT
DTSTART:20240310T100000
END:DAYLIGHT
BEGIN:STANDARD
TZOFFSETFROM:-0700
TZOFFSETTO:-0800
TZNAME:PST
DTSTART:20241103T090000
END:STANDARD
BEGIN:DAYLIGHT
TZOFFSETFROM:-0800
TZOFFSETTO:-0700
TZNAME:PDT
DTSTART:20250309T100000
END:DAYLIGHT
BEGIN:STANDARD
TZOFFSETFROM:-0700
TZOFFSETTO:-0800
TZNAME:PST
DTSTART:20251102T090000
END:STANDARD
END:VTIMEZONE
BEGIN:VEVENT
DTSTART;TZID=America/Los_Angeles:20241014T190000
DTEND;TZID=America/Los_Angeles:20241014T203000
DTSTAMP:20260423T030823
CREATED:20240314T220136Z
LAST-MODIFIED:20240314T220138Z
UID:10003246-1728932400-1728937800@blessedsacramentplacentia.org
SUMMARY:AA Monday Evening 7:00 pm
DESCRIPTION:This meeting takes place in the Parish Hall
URL:https://blessedsacramentplacentia.org/event/aa-monday-evening-730-2/2024-10-14/
LOCATION:Blessed Sacrament Parish Hall\, 1314 N. Angelina Drive\, Placentia\, CA\, 92870\, United States
ATTACH;FMTTYPE=image/jpeg:https://blessedsacramentplacentia.org/wp-content/uploads/2023/11/the-climate-reality-project-Hb6uWq0i4MI-unsplash-scaled-e1700157826744.jpg
END:VEVENT
BEGIN:VEVENT
DTSTART;TZID=America/Los_Angeles:20241007T190000
DTEND;TZID=America/Los_Angeles:20241007T203000
DTSTAMP:20260423T030823
CREATED:20240314T220136Z
LAST-MODIFIED:20240314T220138Z
UID:10003245-1728327600-1728333000@blessedsacramentplacentia.org
SUMMARY:AA Monday Evening 7:00 pm
DESCRIPTION:This meeting takes place in the Parish Hall
URL:https://blessedsacramentplacentia.org/event/aa-monday-evening-730-2/2024-10-07/
LOCATION:Blessed Sacrament Parish Hall\, 1314 N. Angelina Drive\, Placentia\, CA\, 92870\, United States
ATTACH;FMTTYPE=image/jpeg:https://blessedsacramentplacentia.org/wp-content/uploads/2023/11/the-climate-reality-project-Hb6uWq0i4MI-unsplash-scaled-e1700157826744.jpg
END:VEVENT
BEGIN:VEVENT
DTSTART;TZID=America/Los_Angeles:20240930T190000
DTEND;TZID=America/Los_Angeles:20240930T203000
DTSTAMP:20260423T030823
CREATED:20240314T220136Z
LAST-MODIFIED:20240314T220138Z
UID:10003244-1727722800-1727728200@blessedsacramentplacentia.org
SUMMARY:AA Monday Evening 7:00 pm
DESCRIPTION:This meeting takes place in the Parish Hall
URL:https://blessedsacramentplacentia.org/event/aa-monday-evening-730-2/2024-09-30/
LOCATION:Blessed Sacrament Parish Hall\, 1314 N. Angelina Drive\, Placentia\, CA\, 92870\, United States
ATTACH;FMTTYPE=image/jpeg:https://blessedsacramentplacentia.org/wp-content/uploads/2023/11/the-climate-reality-project-Hb6uWq0i4MI-unsplash-scaled-e1700157826744.jpg
END:VEVENT
BEGIN:VEVENT
DTSTART;TZID=America/Los_Angeles:20240923T190000
DTEND;TZID=America/Los_Angeles:20240923T203000
DTSTAMP:20260423T030823
CREATED:20240314T220136Z
LAST-MODIFIED:20240314T220138Z
UID:10003243-1727118000-1727123400@blessedsacramentplacentia.org
SUMMARY:AA Monday Evening 7:00 pm
DESCRIPTION:This meeting takes place in the Parish Hall
URL:https://blessedsacramentplacentia.org/event/aa-monday-evening-730-2/2024-09-23/
LOCATION:Blessed Sacrament Parish Hall\, 1314 N. Angelina Drive\, Placentia\, CA\, 92870\, United States
ATTACH;FMTTYPE=image/jpeg:https://blessedsacramentplacentia.org/wp-content/uploads/2023/11/the-climate-reality-project-Hb6uWq0i4MI-unsplash-scaled-e1700157826744.jpg
END:VEVENT
BEGIN:VEVENT
DTSTART;TZID=America/Los_Angeles:20240916T190000
DTEND;TZID=America/Los_Angeles:20240916T203000
DTSTAMP:20260423T030823
CREATED:20240314T220136Z
LAST-MODIFIED:20240314T220138Z
UID:10003242-1726513200-1726518600@blessedsacramentplacentia.org
SUMMARY:AA Monday Evening 7:00 pm
DESCRIPTION:This meeting takes place in the Parish Hall
URL:https://blessedsacramentplacentia.org/event/aa-monday-evening-730-2/2024-09-16/
LOCATION:Blessed Sacrament Parish Hall\, 1314 N. Angelina Drive\, Placentia\, CA\, 92870\, United States
ATTACH;FMTTYPE=image/jpeg:https://blessedsacramentplacentia.org/wp-content/uploads/2023/11/the-climate-reality-project-Hb6uWq0i4MI-unsplash-scaled-e1700157826744.jpg
END:VEVENT
BEGIN:VEVENT
DTSTART;TZID=America/Los_Angeles:20240909T190000
DTEND;TZID=America/Los_Angeles:20240909T203000
DTSTAMP:20260423T030823
CREATED:20240314T220136Z
LAST-MODIFIED:20240314T220138Z
UID:10003241-1725908400-1725913800@blessedsacramentplacentia.org
SUMMARY:AA Monday Evening 7:00 pm
DESCRIPTION:This meeting takes place in the Parish Hall
URL:https://blessedsacramentplacentia.org/event/aa-monday-evening-730-2/2024-09-09/
LOCATION:Blessed Sacrament Parish Hall\, 1314 N. Angelina Drive\, Placentia\, CA\, 92870\, United States
ATTACH;FMTTYPE=image/jpeg:https://blessedsacramentplacentia.org/wp-content/uploads/2023/11/the-climate-reality-project-Hb6uWq0i4MI-unsplash-scaled-e1700157826744.jpg
END:VEVENT
BEGIN:VEVENT
DTSTART;TZID=America/Los_Angeles:20240902T190000
DTEND;TZID=America/Los_Angeles:20240902T203000
DTSTAMP:20260423T030823
CREATED:20240314T220136Z
LAST-MODIFIED:20240314T220138Z
UID:10003240-1725303600-1725309000@blessedsacramentplacentia.org
SUMMARY:AA Monday Evening 7:00 pm
DESCRIPTION:This meeting takes place in the Parish Hall
URL:https://blessedsacramentplacentia.org/event/aa-monday-evening-730-2/2024-09-02/
LOCATION:Blessed Sacrament Parish Hall\, 1314 N. Angelina Drive\, Placentia\, CA\, 92870\, United States
ATTACH;FMTTYPE=image/jpeg:https://blessedsacramentplacentia.org/wp-content/uploads/2023/11/the-climate-reality-project-Hb6uWq0i4MI-unsplash-scaled-e1700157826744.jpg
END:VEVENT
BEGIN:VEVENT
DTSTART;TZID=America/Los_Angeles:20240826T190000
DTEND;TZID=America/Los_Angeles:20240826T203000
DTSTAMP:20260423T030823
CREATED:20240314T220136Z
LAST-MODIFIED:20240314T220138Z
UID:10003239-1724698800-1724704200@blessedsacramentplacentia.org
SUMMARY:AA Monday Evening 7:00 pm
DESCRIPTION:This meeting takes place in the Parish Hall
URL:https://blessedsacramentplacentia.org/event/aa-monday-evening-730-2/2024-08-26/
LOCATION:Blessed Sacrament Parish Hall\, 1314 N. Angelina Drive\, Placentia\, CA\, 92870\, United States
ATTACH;FMTTYPE=image/jpeg:https://blessedsacramentplacentia.org/wp-content/uploads/2023/11/the-climate-reality-project-Hb6uWq0i4MI-unsplash-scaled-e1700157826744.jpg
END:VEVENT
BEGIN:VEVENT
DTSTART;TZID=America/Los_Angeles:20240819T190000
DTEND;TZID=America/Los_Angeles:20240819T203000
DTSTAMP:20260423T030823
CREATED:20240314T220136Z
LAST-MODIFIED:20240314T220138Z
UID:10003238-1724094000-1724099400@blessedsacramentplacentia.org
SUMMARY:AA Monday Evening 7:00 pm
DESCRIPTION:This meeting takes place in the Parish Hall
URL:https://blessedsacramentplacentia.org/event/aa-monday-evening-730-2/2024-08-19/
LOCATION:Blessed Sacrament Parish Hall\, 1314 N. Angelina Drive\, Placentia\, CA\, 92870\, United States
ATTACH;FMTTYPE=image/jpeg:https://blessedsacramentplacentia.org/wp-content/uploads/2023/11/the-climate-reality-project-Hb6uWq0i4MI-unsplash-scaled-e1700157826744.jpg
END:VEVENT
BEGIN:VEVENT
DTSTART;TZID=America/Los_Angeles:20240812T190000
DTEND;TZID=America/Los_Angeles:20240812T203000
DTSTAMP:20260423T030823
CREATED:20240314T220136Z
LAST-MODIFIED:20240314T220138Z
UID:10003237-1723489200-1723494600@blessedsacramentplacentia.org
SUMMARY:AA Monday Evening 7:00 pm
DESCRIPTION:This meeting takes place in the Parish Hall
URL:https://blessedsacramentplacentia.org/event/aa-monday-evening-730-2/2024-08-12/
LOCATION:Blessed Sacrament Parish Hall\, 1314 N. Angelina Drive\, Placentia\, CA\, 92870\, United States
ATTACH;FMTTYPE=image/jpeg:https://blessedsacramentplacentia.org/wp-content/uploads/2023/11/the-climate-reality-project-Hb6uWq0i4MI-unsplash-scaled-e1700157826744.jpg
END:VEVENT
BEGIN:VEVENT
DTSTART;TZID=America/Los_Angeles:20240805T190000
DTEND;TZID=America/Los_Angeles:20240805T203000
DTSTAMP:20260423T030823
CREATED:20240314T220136Z
LAST-MODIFIED:20240314T220138Z
UID:10003236-1722884400-1722889800@blessedsacramentplacentia.org
SUMMARY:AA Monday Evening 7:00 pm
DESCRIPTION:This meeting takes place in the Parish Hall
URL:https://blessedsacramentplacentia.org/event/aa-monday-evening-730-2/2024-08-05/
LOCATION:Blessed Sacrament Parish Hall\, 1314 N. Angelina Drive\, Placentia\, CA\, 92870\, United States
ATTACH;FMTTYPE=image/jpeg:https://blessedsacramentplacentia.org/wp-content/uploads/2023/11/the-climate-reality-project-Hb6uWq0i4MI-unsplash-scaled-e1700157826744.jpg
END:VEVENT
BEGIN:VEVENT
DTSTART;TZID=America/Los_Angeles:20240729T190000
DTEND;TZID=America/Los_Angeles:20240729T203000
DTSTAMP:20260423T030823
CREATED:20240314T220136Z
LAST-MODIFIED:20240314T220138Z
UID:10003235-1722279600-1722285000@blessedsacramentplacentia.org
SUMMARY:AA Monday Evening 7:00 pm
DESCRIPTION:This meeting takes place in the Parish Hall
URL:https://blessedsacramentplacentia.org/event/aa-monday-evening-730-2/2024-07-29/
LOCATION:Blessed Sacrament Parish Hall\, 1314 N. Angelina Drive\, Placentia\, CA\, 92870\, United States
ATTACH;FMTTYPE=image/jpeg:https://blessedsacramentplacentia.org/wp-content/uploads/2023/11/the-climate-reality-project-Hb6uWq0i4MI-unsplash-scaled-e1700157826744.jpg
END:VEVENT
BEGIN:VEVENT
DTSTART;TZID=America/Los_Angeles:20240722T190000
DTEND;TZID=America/Los_Angeles:20240722T203000
DTSTAMP:20260423T030823
CREATED:20240314T220136Z
LAST-MODIFIED:20240314T220138Z
UID:10003234-1721674800-1721680200@blessedsacramentplacentia.org
SUMMARY:AA Monday Evening 7:00 pm
DESCRIPTION:This meeting takes place in the Parish Hall
URL:https://blessedsacramentplacentia.org/event/aa-monday-evening-730-2/2024-07-22/
LOCATION:Blessed Sacrament Parish Hall\, 1314 N. Angelina Drive\, Placentia\, CA\, 92870\, United States
ATTACH;FMTTYPE=image/jpeg:https://blessedsacramentplacentia.org/wp-content/uploads/2023/11/the-climate-reality-project-Hb6uWq0i4MI-unsplash-scaled-e1700157826744.jpg
END:VEVENT
BEGIN:VEVENT
DTSTART;TZID=America/Los_Angeles:20240715T190000
DTEND;TZID=America/Los_Angeles:20240715T203000
DTSTAMP:20260423T030823
CREATED:20240314T220136Z
LAST-MODIFIED:20240314T220138Z
UID:10003233-1721070000-1721075400@blessedsacramentplacentia.org
SUMMARY:AA Monday Evening 7:00 pm
DESCRIPTION:This meeting takes place in the Parish Hall
URL:https://blessedsacramentplacentia.org/event/aa-monday-evening-730-2/2024-07-15/
LOCATION:Blessed Sacrament Parish Hall\, 1314 N. Angelina Drive\, Placentia\, CA\, 92870\, United States
ATTACH;FMTTYPE=image/jpeg:https://blessedsacramentplacentia.org/wp-content/uploads/2023/11/the-climate-reality-project-Hb6uWq0i4MI-unsplash-scaled-e1700157826744.jpg
END:VEVENT
BEGIN:VEVENT
DTSTART;TZID=America/Los_Angeles:20240708T190000
DTEND;TZID=America/Los_Angeles:20240708T203000
DTSTAMP:20260423T030823
CREATED:20240314T220136Z
LAST-MODIFIED:20240314T220138Z
UID:10003232-1720465200-1720470600@blessedsacramentplacentia.org
SUMMARY:AA Monday Evening 7:00 pm
DESCRIPTION:This meeting takes place in the Parish Hall
URL:https://blessedsacramentplacentia.org/event/aa-monday-evening-730-2/2024-07-08/
LOCATION:Blessed Sacrament Parish Hall\, 1314 N. Angelina Drive\, Placentia\, CA\, 92870\, United States
ATTACH;FMTTYPE=image/jpeg:https://blessedsacramentplacentia.org/wp-content/uploads/2023/11/the-climate-reality-project-Hb6uWq0i4MI-unsplash-scaled-e1700157826744.jpg
END:VEVENT
BEGIN:VEVENT
DTSTART;TZID=America/Los_Angeles:20240701T190000
DTEND;TZID=America/Los_Angeles:20240701T203000
DTSTAMP:20260423T030823
CREATED:20240314T220136Z
LAST-MODIFIED:20240314T220138Z
UID:10003231-1719860400-1719865800@blessedsacramentplacentia.org
SUMMARY:AA Monday Evening 7:00 pm
DESCRIPTION:This meeting takes place in the Parish Hall
URL:https://blessedsacramentplacentia.org/event/aa-monday-evening-730-2/2024-07-01/
LOCATION:Blessed Sacrament Parish Hall\, 1314 N. Angelina Drive\, Placentia\, CA\, 92870\, United States
ATTACH;FMTTYPE=image/jpeg:https://blessedsacramentplacentia.org/wp-content/uploads/2023/11/the-climate-reality-project-Hb6uWq0i4MI-unsplash-scaled-e1700157826744.jpg
END:VEVENT
BEGIN:VEVENT
DTSTART;TZID=America/Los_Angeles:20240624T190000
DTEND;TZID=America/Los_Angeles:20240624T203000
DTSTAMP:20260423T030823
CREATED:20240314T220136Z
LAST-MODIFIED:20240314T220138Z
UID:10003230-1719255600-1719261000@blessedsacramentplacentia.org
SUMMARY:AA Monday Evening 7:00 pm
DESCRIPTION:This meeting takes place in the Parish Hall
URL:https://blessedsacramentplacentia.org/event/aa-monday-evening-730-2/2024-06-24/
LOCATION:Blessed Sacrament Parish Hall\, 1314 N. Angelina Drive\, Placentia\, CA\, 92870\, United States
ATTACH;FMTTYPE=image/jpeg:https://blessedsacramentplacentia.org/wp-content/uploads/2023/11/the-climate-reality-project-Hb6uWq0i4MI-unsplash-scaled-e1700157826744.jpg
END:VEVENT
BEGIN:VEVENT
DTSTART;TZID=America/Los_Angeles:20240617T190000
DTEND;TZID=America/Los_Angeles:20240617T203000
DTSTAMP:20260423T030823
CREATED:20240314T220136Z
LAST-MODIFIED:20240314T220138Z
UID:10003229-1718650800-1718656200@blessedsacramentplacentia.org
SUMMARY:AA Monday Evening 7:00 pm
DESCRIPTION:This meeting takes place in the Parish Hall
URL:https://blessedsacramentplacentia.org/event/aa-monday-evening-730-2/2024-06-17/
LOCATION:Blessed Sacrament Parish Hall\, 1314 N. Angelina Drive\, Placentia\, CA\, 92870\, United States
ATTACH;FMTTYPE=image/jpeg:https://blessedsacramentplacentia.org/wp-content/uploads/2023/11/the-climate-reality-project-Hb6uWq0i4MI-unsplash-scaled-e1700157826744.jpg
END:VEVENT
BEGIN:VEVENT
DTSTART;TZID=America/Los_Angeles:20240610T190000
DTEND;TZID=America/Los_Angeles:20240610T203000
DTSTAMP:20260423T030823
CREATED:20240314T220136Z
LAST-MODIFIED:20240314T220138Z
UID:10003228-1718046000-1718051400@blessedsacramentplacentia.org
SUMMARY:AA Monday Evening 7:00 pm
DESCRIPTION:This meeting takes place in the Parish Hall
URL:https://blessedsacramentplacentia.org/event/aa-monday-evening-730-2/2024-06-10/
LOCATION:Blessed Sacrament Parish Hall\, 1314 N. Angelina Drive\, Placentia\, CA\, 92870\, United States
ATTACH;FMTTYPE=image/jpeg:https://blessedsacramentplacentia.org/wp-content/uploads/2023/11/the-climate-reality-project-Hb6uWq0i4MI-unsplash-scaled-e1700157826744.jpg
END:VEVENT
BEGIN:VEVENT
DTSTART;TZID=America/Los_Angeles:20240603T190000
DTEND;TZID=America/Los_Angeles:20240603T203000
DTSTAMP:20260423T030823
CREATED:20240314T220136Z
LAST-MODIFIED:20240314T220138Z
UID:10003227-1717441200-1717446600@blessedsacramentplacentia.org
SUMMARY:AA Monday Evening 7:00 pm
DESCRIPTION:This meeting takes place in the Parish Hall
URL:https://blessedsacramentplacentia.org/event/aa-monday-evening-730-2/2024-06-03/
LOCATION:Blessed Sacrament Parish Hall\, 1314 N. Angelina Drive\, Placentia\, CA\, 92870\, United States
ATTACH;FMTTYPE=image/jpeg:https://blessedsacramentplacentia.org/wp-content/uploads/2023/11/the-climate-reality-project-Hb6uWq0i4MI-unsplash-scaled-e1700157826744.jpg
END:VEVENT
BEGIN:VEVENT
DTSTART;TZID=America/Los_Angeles:20240527T190000
DTEND;TZID=America/Los_Angeles:20240527T203000
DTSTAMP:20260423T030824
CREATED:20240314T220136Z
LAST-MODIFIED:20240314T220138Z
UID:10003226-1716836400-1716841800@blessedsacramentplacentia.org
SUMMARY:AA Monday Evening 7:00 pm
DESCRIPTION:This meeting takes place in the Parish Hall
URL:https://blessedsacramentplacentia.org/event/aa-monday-evening-730-2/2024-05-27/
LOCATION:Blessed Sacrament Parish Hall\, 1314 N. Angelina Drive\, Placentia\, CA\, 92870\, United States
ATTACH;FMTTYPE=image/jpeg:https://blessedsacramentplacentia.org/wp-content/uploads/2023/11/the-climate-reality-project-Hb6uWq0i4MI-unsplash-scaled-e1700157826744.jpg
END:VEVENT
BEGIN:VEVENT
DTSTART;TZID=America/Los_Angeles:20240520T190000
DTEND;TZID=America/Los_Angeles:20240520T203000
DTSTAMP:20260423T030824
CREATED:20240314T220136Z
LAST-MODIFIED:20240314T220138Z
UID:10003225-1716231600-1716237000@blessedsacramentplacentia.org
SUMMARY:AA Monday Evening 7:00 pm
DESCRIPTION:This meeting takes place in the Parish Hall
URL:https://blessedsacramentplacentia.org/event/aa-monday-evening-730-2/2024-05-20/
LOCATION:Blessed Sacrament Parish Hall\, 1314 N. Angelina Drive\, Placentia\, CA\, 92870\, United States
ATTACH;FMTTYPE=image/jpeg:https://blessedsacramentplacentia.org/wp-content/uploads/2023/11/the-climate-reality-project-Hb6uWq0i4MI-unsplash-scaled-e1700157826744.jpg
END:VEVENT
BEGIN:VEVENT
DTSTART;TZID=America/Los_Angeles:20240513T190000
DTEND;TZID=America/Los_Angeles:20240513T203000
DTSTAMP:20260423T030824
CREATED:20240314T220136Z
LAST-MODIFIED:20240314T220138Z
UID:10003224-1715626800-1715632200@blessedsacramentplacentia.org
SUMMARY:AA Monday Evening 7:00 pm
DESCRIPTION:This meeting takes place in the Parish Hall
URL:https://blessedsacramentplacentia.org/event/aa-monday-evening-730-2/2024-05-13/
LOCATION:Blessed Sacrament Parish Hall\, 1314 N. Angelina Drive\, Placentia\, CA\, 92870\, United States
ATTACH;FMTTYPE=image/jpeg:https://blessedsacramentplacentia.org/wp-content/uploads/2023/11/the-climate-reality-project-Hb6uWq0i4MI-unsplash-scaled-e1700157826744.jpg
END:VEVENT
BEGIN:VEVENT
DTSTART;TZID=America/Los_Angeles:20240506T190000
DTEND;TZID=America/Los_Angeles:20240506T203000
DTSTAMP:20260423T030824
CREATED:20240314T220136Z
LAST-MODIFIED:20240314T220138Z
UID:10003223-1715022000-1715027400@blessedsacramentplacentia.org
SUMMARY:AA Monday Evening 7:00 pm
DESCRIPTION:This meeting takes place in the Parish Hall
URL:https://blessedsacramentplacentia.org/event/aa-monday-evening-730-2/2024-05-06/
LOCATION:Blessed Sacrament Parish Hall\, 1314 N. Angelina Drive\, Placentia\, CA\, 92870\, United States
ATTACH;FMTTYPE=image/jpeg:https://blessedsacramentplacentia.org/wp-content/uploads/2023/11/the-climate-reality-project-Hb6uWq0i4MI-unsplash-scaled-e1700157826744.jpg
END:VEVENT
BEGIN:VEVENT
DTSTART;TZID=America/Los_Angeles:20240429T190000
DTEND;TZID=America/Los_Angeles:20240429T203000
DTSTAMP:20260423T030824
CREATED:20240314T220136Z
LAST-MODIFIED:20240314T220138Z
UID:10003222-1714417200-1714422600@blessedsacramentplacentia.org
SUMMARY:AA Monday Evening 7:00 pm
DESCRIPTION:This meeting takes place in the Parish Hall
URL:https://blessedsacramentplacentia.org/event/aa-monday-evening-730-2/2024-04-29/
LOCATION:Blessed Sacrament Parish Hall\, 1314 N. Angelina Drive\, Placentia\, CA\, 92870\, United States
ATTACH;FMTTYPE=image/jpeg:https://blessedsacramentplacentia.org/wp-content/uploads/2023/11/the-climate-reality-project-Hb6uWq0i4MI-unsplash-scaled-e1700157826744.jpg
END:VEVENT
BEGIN:VEVENT
DTSTART;TZID=America/Los_Angeles:20240422T190000
DTEND;TZID=America/Los_Angeles:20240422T203000
DTSTAMP:20260423T030824
CREATED:20240314T220136Z
LAST-MODIFIED:20240314T220138Z
UID:10003221-1713812400-1713817800@blessedsacramentplacentia.org
SUMMARY:AA Monday Evening 7:00 pm
DESCRIPTION:This meeting takes place in the Parish Hall
URL:https://blessedsacramentplacentia.org/event/aa-monday-evening-730-2/2024-04-22/
LOCATION:Blessed Sacrament Parish Hall\, 1314 N. Angelina Drive\, Placentia\, CA\, 92870\, United States
ATTACH;FMTTYPE=image/jpeg:https://blessedsacramentplacentia.org/wp-content/uploads/2023/11/the-climate-reality-project-Hb6uWq0i4MI-unsplash-scaled-e1700157826744.jpg
END:VEVENT
BEGIN:VEVENT
DTSTART;TZID=America/Los_Angeles:20240415T190000
DTEND;TZID=America/Los_Angeles:20240415T203000
DTSTAMP:20260423T030824
CREATED:20240314T220136Z
LAST-MODIFIED:20240314T220138Z
UID:10003220-1713207600-1713213000@blessedsacramentplacentia.org
SUMMARY:AA Monday Evening 7:00 pm
DESCRIPTION:This meeting takes place in the Parish Hall
URL:https://blessedsacramentplacentia.org/event/aa-monday-evening-730-2/2024-04-15/
LOCATION:Blessed Sacrament Parish Hall\, 1314 N. Angelina Drive\, Placentia\, CA\, 92870\, United States
ATTACH;FMTTYPE=image/jpeg:https://blessedsacramentplacentia.org/wp-content/uploads/2023/11/the-climate-reality-project-Hb6uWq0i4MI-unsplash-scaled-e1700157826744.jpg
END:VEVENT
BEGIN:VEVENT
DTSTART;TZID=America/Los_Angeles:20240408T190000
DTEND;TZID=America/Los_Angeles:20240408T203000
DTSTAMP:20260423T030824
CREATED:20240314T220136Z
LAST-MODIFIED:20240314T220138Z
UID:10003219-1712602800-1712608200@blessedsacramentplacentia.org
SUMMARY:AA Monday Evening 7:00 pm
DESCRIPTION:This meeting takes place in the Parish Hall
URL:https://blessedsacramentplacentia.org/event/aa-monday-evening-730-2/2024-04-08/
LOCATION:Blessed Sacrament Parish Hall\, 1314 N. Angelina Drive\, Placentia\, CA\, 92870\, United States
ATTACH;FMTTYPE=image/jpeg:https://blessedsacramentplacentia.org/wp-content/uploads/2023/11/the-climate-reality-project-Hb6uWq0i4MI-unsplash-scaled-e1700157826744.jpg
END:VEVENT
BEGIN:VEVENT
DTSTART;TZID=America/Los_Angeles:20240401T190000
DTEND;TZID=America/Los_Angeles:20240401T203000
DTSTAMP:20260423T030824
CREATED:20240314T220136Z
LAST-MODIFIED:20240314T220138Z
UID:10003218-1711998000-1712003400@blessedsacramentplacentia.org
SUMMARY:AA Monday Evening 7:00 pm
DESCRIPTION:This meeting takes place in the Parish Hall
URL:https://blessedsacramentplacentia.org/event/aa-monday-evening-730-2/2024-04-01/
LOCATION:Blessed Sacrament Parish Hall\, 1314 N. Angelina Drive\, Placentia\, CA\, 92870\, United States
ATTACH;FMTTYPE=image/jpeg:https://blessedsacramentplacentia.org/wp-content/uploads/2023/11/the-climate-reality-project-Hb6uWq0i4MI-unsplash-scaled-e1700157826744.jpg
END:VEVENT
BEGIN:VEVENT
DTSTART;TZID=America/Los_Angeles:20240325T190000
DTEND;TZID=America/Los_Angeles:20240325T203000
DTSTAMP:20260423T030824
CREATED:20240314T220136Z
LAST-MODIFIED:20240314T220138Z
UID:10003217-1711393200-1711398600@blessedsacramentplacentia.org
SUMMARY:AA Monday Evening 7:00 pm
DESCRIPTION:This meeting takes place in the Parish Hall
URL:https://blessedsacramentplacentia.org/event/aa-monday-evening-730-2/2024-03-25/
LOCATION:Blessed Sacrament Parish Hall\, 1314 N. Angelina Drive\, Placentia\, CA\, 92870\, United States
ATTACH;FMTTYPE=image/jpeg:https://blessedsacramentplacentia.org/wp-content/uploads/2023/11/the-climate-reality-project-Hb6uWq0i4MI-unsplash-scaled-e1700157826744.jpg
END:VEVENT
END:VCALENDAR